BEGIN:VCALENDAR
VERSION:2.0
CALSCALE:GREGORIAN
METHOD:PUBLISH
PRODID://OWEA//458125
BEGIN:VEVENT
DTSTAMP:20260422T081713
VTIMEZONE:America/New_York
DTSTART:20251030T120000Z
DTEND:20251030T184500Z
UID:458125
SUMMARY:SEOWEA 2025 Industrial Pretreatment Workshop
LOCATION:Nitrile, 3500 Southwest Blvd, Grove City, OH, 43123
DESCRIPTION:SEOWEA 2025 Industrial Pretreatment Workshop\n\n10/30/25 08:00 AM EST\n - 10/30/25 02:45 PM EST\Description:\nFlyer\n\n \Location:\nNitrile\n3500 Southwest Blvd\nGrove City, OH 43123
X-ALT-DESC;FMTTYPE=text/html:SEOWEA 2025 Industrial Pretreatment Workshop<br /><br />10/30/25 08:00 AM EST - 10/30/25 02:45 PM EST<br />Description:<br /><a href="https://www.ohiowea.org/docs/SEOWEA_2025_Industrial_Pretreatment_Workshop_flyer.pdf">Flyer</a><br />
<br />
&nbsp;<br />Location:<br />Nitrile<br />3500 Southwest Blvd<br />Grove City, OH 43123
PRIORITY:3
TRANSP:TRANSPARENT
BEGIN:VALARM
TRIGGER:-PT5M
ACTION:DISPLAY
DESCRIPTION:Reminder
END:VALARM
END:VEVENT
END:VCALENDAR
