BEGIN:VCALENDAR
VERSION:2.0
CALSCALE:GREGORIAN
METHOD:PUBLISH
PRODID://TPA//457466
BEGIN:VEVENT
DTSTAMP:20260420T194014
VTIMEZONE:America/New_York
DTSTART:20251105T153000Z
DTEND:20251105T183000Z
UID:457466
SUMMARY:Pennsylvania Disability History Collaborative
LOCATION:
DESCRIPTION:Pennsylvania Disability History Collaborative\n\n11/05/25 10:30 AM EST\n - 11/05/25 01:30 PM EST\Description:\nThe PA Disability History Collaborative is a collective group of people with disabilities, families, organizations and their allies interested in research and public education on the history and lived experiences of people with disabilities in Pennsylvania. All are welcome to attend.\n\nClick here to Register
X-ALT-DESC;FMTTYPE=text/html:Pennsylvania Disability History Collaborative<br /><br />11/05/25 10:30 AM EST - 11/05/25 01:30 PM EST<br />Description:<br />The PA Disability History Collaborative is a collective group of people with disabilities, families, organizations and their allies interested in research and public education on the history and lived experiences of people with disabilities in Pennsylvania. All are welcome to attend.<br />
<br />
<a href="https://www.eventbrite.com/e/pa-disability-history-collaborative-november-5-2025-tickets-1685330100699?aff=oddtdtcreator">Click here to Register</a>
PRIORITY:3
TRANSP:TRANSPARENT
BEGIN:VALARM
TRIGGER:-PT5M
ACTION:DISPLAY
DESCRIPTION:Reminder
END:VALARM
END:VEVENT
END:VCALENDAR
