BEGIN:VCALENDAR
VERSION:2.0
CALSCALE:GREGORIAN
METHOD:PUBLISH
PRODID://PRA//457448
BEGIN:VEVENT
DTSTAMP:20260424T174508
VTIMEZONE:America/New_York
DTSTART:20251101T110000Z
DTEND:20251101T210000Z
UID:457448
SUMMARY:Bald Eagle Collegiate Invitational - Indianapolis
LOCATION:
DESCRIPTION:Bald Eagle Collegiate Invitational - Indianapolis\n\n11/01/25 07:00 AM EST\n - 11/01/25 05:00 PM EST
X-ALT-DESC;FMTTYPE=text/html:Bald Eagle Collegiate Invitational - Indianapolis<br /><br />11/01/25 07:00 AM EST - 11/01/25 05:00 PM EST
PRIORITY:3
TRANSP:TRANSPARENT
BEGIN:VALARM
TRIGGER:-PT5M
ACTION:DISPLAY
DESCRIPTION:Reminder
END:VALARM
END:VEVENT
END:VCALENDAR
