BEGIN:VCALENDAR
VERSION:2.0
CALSCALE:GREGORIAN
METHOD:PUBLISH
PRODID://TPA//456219
BEGIN:VEVENT
DTSTAMP:20260423T160859
VTIMEZONE:America/New_York
DTSTART:20251028T180000Z
DTEND:20251028T190000Z
UID:456219
SUMMARY:Expanding Revenue Beyond Medicaid: New Funding Strategies For I/DD Providers
LOCATION:
DESCRIPTION:Expanding Revenue Beyond Medicaid: New Funding Strategies For I/DD Providers\n\n10/28/25 02:00 PM EST\n - 10/28/25 03:00 PM EST\Description:\n\nAs Medicaid funding remains stagnant, behavioral health and I/DD providers must explore innovative ways to diversify revenue streams. This webinar, hosted by Core Solutions, will uncover non-traditional funding opportunities that can enhance financial sustainability while staying true to your organization’s mission. \n\nDrawing from real-world examples and decades of experience, this presentation will cover:\n\n\n	Identifying viable alternative funding sources at the federal, state, and municipal levels\n	Assessing alignment with your organization’s goals and services\n	Navigating the steps to secure new revenue streams\n\n\nAttendees will gain practical insights into securing government contracts, grants, and partnerships that can strengthen financial resilience and reduce reliance on traditional Medicaid funding.\n\nPresenters\n\n\n	Terence Blackwell, Former CEO, Chimes International\n	Jon Trigg, SVP Sales & Marketing, Core Solutions\n\nClick here to Register
X-ALT-DESC;FMTTYPE=text/html:Expanding Revenue Beyond Medicaid: New Funding Strategies For I/DD Providers<br /><br />10/28/25 02:00 PM EST - 10/28/25 03:00 PM EST<br />Description:<br /><meta charset="UTF-8" />
<p>As Medicaid funding remains stagnant, behavioral health and I/DD providers must explore innovative ways to diversify revenue streams. This webinar, hosted by&nbsp;Core Solutions, will uncover non-traditional funding opportunities that can enhance financial sustainability while staying true to your organization&rsquo;s mission.&nbsp;</p>

<p>Drawing from real-world examples and decades of experience, this presentation will cover:</p>

<ul>
	<li aria-level="1">Identifying viable alternative funding sources at the federal, state, and municipal levels</li>
	<li aria-level="1">Assessing alignment with your organization&rsquo;s goals and services</li>
	<li aria-level="1">Navigating the steps to secure new revenue streams</li>
</ul>

<p>Attendees will gain practical insights into securing government contracts, grants, and partnerships that can strengthen financial resilience and reduce reliance on traditional Medicaid funding.</p>

<p>Presenters</p>

<ul>
	<li>Terence Blackwell, Former CEO, Chimes International</li>
	<li>Jon Trigg, SVP Sales &amp; Marketing, Core Solutions</li>
</ul>
<a href="https://info.coresolutionsinc.com/expanding-revenue-beyond-medicaid-new-funding-strategies-for-idd?utm_campaign=15420192-Webinar%3A%20Expanding%20Revenue%20Beyond%20Medicaid%3A%20New%20Funding%20Strategies%20For%20I%2FDD%20Providers&amp;utm_source=ancor_webinar_10282025&amp;utm_medium=email&amp;utm_content=ancor_webinar_10282025">Click here to Register</a>
PRIORITY:3
TRANSP:TRANSPARENT
BEGIN:VALARM
TRIGGER:-PT5M
ACTION:DISPLAY
DESCRIPTION:Reminder
END:VALARM
END:VEVENT
END:VCALENDAR
