BEGIN:VCALENDAR
VERSION:2.0
CALSCALE:GREGORIAN
METHOD:PUBLISH
PRODID://TPA//455038
BEGIN:VEVENT
DTSTAMP:20260423T174819
VTIMEZONE:America/New_York
DTSTART:20251007T180000Z
DTEND:20251007T190000Z
UID:455038
SUMMARY:Enhancing Insights, Efficiency & Quality: Harnessing AI to Support Service Delivery (Therap)
LOCATION:
DESCRIPTION:Enhancing Insights, Efficiency & Quality: Harnessing AI to Support Service Delivery (Therap)\n\n10/07/25 02:00 PM EST\n - 10/07/25 03:00 PM EST\Description:\n\nThis session explores the application of Artificial Intelligence (AI) tools to existing data and data collection methods, aiming to improve the quality and efficiency of service delivery for individuals with intellectual and developmental disabilities (I/DD).  Presenters from Therap Services will emphasize processes specifically designed for the I/DD and Home and Community-Based Services (HCBS) sectors. This approach avoids generic AI applications that may offer limited value and potentially compromise data privacy and security. Furthermore, presenters will showcase specific AI tools currently available or under development, detailing their role in the responsible application of AI to enhance overall service quality.\n\nPresenters\n\n\n	Jason Laws, Director of Quality & Data Initiatives, Therap Services\n	Karen Niedermeier, Associate Director of Business Development, Therap Services\n	Michelle Saunders, Associate Director of Business Development, Therap Services\n\nClick here to Register
X-ALT-DESC;FMTTYPE=text/html:Enhancing Insights, Efficiency & Quality: Harnessing AI to Support Service Delivery (Therap)<br /><br />10/07/25 02:00 PM EST - 10/07/25 03:00 PM EST<br />Description:<br /><meta charset="UTF-8" />
<p>This session explores the application of Artificial Intelligence (AI) tools to existing data and data collection methods, aiming to improve the quality and efficiency of service delivery for individuals with intellectual and developmental disabilities (I/DD).&nbsp; Presenters from&nbsp;<strong>Therap Services&nbsp;</strong>will emphasize processes specifically designed for the I/DD and Home and Community-Based Services (HCBS) sectors. This approach avoids generic AI applications that may offer limited value and potentially compromise data privacy and security. Furthermore, presenters will showcase specific AI tools currently available or under development, detailing their role in the responsible application of AI to enhance overall service quality.</p>

<p>Presenters</p>

<ul>
	<li><strong>Jason Laws,</strong>&nbsp;Director of Quality &amp; Data Initiatives, Therap Services</li>
	<li><strong>Karen Niedermeier</strong>, Associate Director of Business Development, Therap Services</li>
	<li><strong>Michelle Saunders</strong>, Associate Director of Business Development, Therap Services</li>
</ul>
<a href="https://therapservices.zoom.us/webinar/register/WN_ajkP0-O9TsCt8EG7uCdasg#/registration">Click here to Register</a>
PRIORITY:3
TRANSP:TRANSPARENT
BEGIN:VALARM
TRIGGER:-PT5M
ACTION:DISPLAY
DESCRIPTION:Reminder
END:VALARM
END:VEVENT
END:VCALENDAR
