BEGIN:VCALENDAR
VERSION:2.0
CALSCALE:GREGORIAN
METHOD:PUBLISH
PRODID://TPA//455036
BEGIN:VEVENT
DTSTAMP:20260423T173617
VTIMEZONE:America/New_York
DTSTART:20251015T173000Z
DTEND:20251015T183000Z
UID:455036
SUMMARY:Community Life Engagement in Action Webinar: Person-Centered Care Strategies
LOCATION:
DESCRIPTION:Community Life Engagement in Action Webinar: Person-Centered Care Strategies\n\n10/15/25 01:30 PM EST\n - 10/15/25 02:30 PM EST\Description:\n\nCommunity Life Engagement (CLE) in Action is hosting its next quarterly webinar as part of our series on storytelling and peer support for providers supporting people with intellectual and developmental disabilities (I/DD).  They are excited to feature Julie Lago, executive director of the National Center for START Services and adjunct faculty at the University of New Hampshire. A lifelong disability advocate, clinician, and innovator, Julie will share her expertise on working with people with I/DD and mental health dual diagnoses.\n\nCLE in Action is a partnership between ANCOR, the Institute on Disability at UNH, and the Institute for Community Inclusion at UMass Boston, aimed at increasing CLE for people with I/DD. Curious about what to expect at this webinar? Watch this 1-minute video to learn more.\n\nClick here to Register\n
X-ALT-DESC;FMTTYPE=text/html:Community Life Engagement in Action Webinar: Person-Centered Care Strategies<br /><br />10/15/25 01:30 PM EST - 10/15/25 02:30 PM EST<br />Description:<br /><meta charset="UTF-8" />
<p>Community Life Engagement (CLE) in Action is hosting its next quarterly webinar&nbsp;as part of our series on storytelling and peer support for providers supporting people with intellectual and developmental disabilities (I/DD).&nbsp; They&nbsp;are excited to feature Julie Lago, executive director of the National Center for START Services and adjunct faculty at the University of New Hampshire. A lifelong disability advocate, clinician, and innovator, Julie will share her expertise on working with people with I/DD and mental health dual diagnoses.</p>

<p><em>CLE in Action is a partnership between ANCOR, the Institute on Disability at UNH, and the Institute for Community Inclusion at UMass Boston, aimed at increasing CLE for people with I/DD. Curious about what to expect at this webinar?&nbsp;<a data-informz-do-not-track="false" data-informz-link="true" data-informz-link-name="" data-outlook-id="e90d6fe6-b2e7-4872-8835-82af52d405e6" href="https://ANCOR.informz.net/z/cjUucD9taT0xMjEwNzk3NyZwPTEmdT0xMTc3MzYyMTkyJmxpPTExNzgzNzkyNA/index.html" target="_blank" title="https://ANCOR.informz.net/z/cjUucD9taT0xMjEwNzk3NyZwPTEmdT0xMTc3MzYyMTkyJmxpPTExNzgzNzkyNA/index.html">Watch this 1-minute video to learn more.</a></em><br />
<br />
<a href="https://communityinclusion.zoom.us/webinar/register/WN_q4WbvSCHRU2LvUjVdCOWZg#/registration">Click here to Register</a></p>

PRIORITY:3
TRANSP:TRANSPARENT
BEGIN:VALARM
TRIGGER:-PT5M
ACTION:DISPLAY
DESCRIPTION:Reminder
END:VALARM
END:VEVENT
END:VCALENDAR
