BEGIN:VCALENDAR
VERSION:2.0
CALSCALE:GREGORIAN
METHOD:PUBLISH
PRODID://TBLC//454846
BEGIN:VEVENT
DTSTAMP:20260419T082137
VTIMEZONE:America/New_York
DTSTART:20250925T130000Z
DTEND:20250925T150000Z
UID:454846
SUMMARY:Cafecito con Conexiones - Pinellas
LOCATION:Jana's Cafe, 120 Commerce Blvd, Suite 1, Oldsmar, FL, 34677
DESCRIPTION:Cafecito con Conexiones - Pinellas\n\n09/25/25 09:00 AM EST\n - 09/25/25 11:00 AM EST\Description:\nStart your morning right with a coffee!â˜•ðŸ¥\n\n\nJoin us for our monthly Cafecito con Conexiones from 9AM–11AM at a different location around the Tampa Bay area.\n\nWhile you're there, enjoy casual networking with fellow entrepreneurs, community leaders, and resource partners. This is a fantastic way to make new connections and discover the many local resources available to help your business grow. \n\n\nThursday, September 25,  2025 | 9AM to 11AM | Location: Jana's Cafe, 120 Commerce Blvd Suite 1, Oldsmar, FL 34677\n\Location:\nJana's Cafe\n120 Commerce Blvd, Suite 1\nOldsmar, FL 34677
X-ALT-DESC;FMTTYPE=text/html:Cafecito con Conexiones - Pinellas<br /><br />09/25/25 09:00 AM EST - 09/25/25 11:00 AM EST<br />Description:<br /><p data-end="286" data-start="179">Start your morning right with a coffee!â˜•ðŸ¥</p>

<p data-end="395" data-start="288"><br />
Join us for our&nbsp;<strong data-end="321" data-start="296">monthly Cafecito con Conexiones&nbsp;from 9AM&ndash;11AM</strong>&nbsp;at a different&nbsp;<strong data-end="368" data-start="337">location</strong>&nbsp;around the Tampa Bay area.</p>

<p data-end="690" data-start="397">While you're there,&nbsp;enjoy casual networking with fellow entrepreneurs, community leaders, and resource partners. This is a fantastic way to&nbsp;<strong data-end="610" data-start="586">make new connections</strong>&nbsp;and discover the many&nbsp;<strong data-end="652" data-start="633">local resources</strong>&nbsp;available to help your business grow.&nbsp;</p>

<p><br />
Thursday, September 25,&nbsp;&nbsp;2025&nbsp;| 9AM to 11AM | Location: Jana's Cafe,&nbsp;120 Commerce Blvd Suite 1, Oldsmar, FL 34677</p>
<br />Location:<br />Jana's Cafe<br />120 Commerce Blvd, Suite 1<br />Oldsmar, FL 34677
PRIORITY:3
TRANSP:TRANSPARENT
BEGIN:VALARM
TRIGGER:-PT5M
ACTION:DISPLAY
DESCRIPTION:Reminder
END:VALARM
END:VEVENT
END:VCALENDAR
