BEGIN:VCALENDAR
VERSION:2.0
CALSCALE:GREGORIAN
METHOD:PUBLISH
PRODID://AAFS//454419
BEGIN:VEVENT
DTSTAMP:20260424T154443
VTIMEZONE:America/New_York
DTSTART:20251027T170000Z
DTEND:20251027T180000Z
UID:454419
SUMMARY:CAAMS Seminar: International challenges and opportunities in antimicrobial resistance and antimicrobial stewardship
LOCATION:
DESCRIPTION:CAAMS Seminar: International challenges and opportunities in antimicrobial resistance and antimicrobial stewardship\n\n10/27/25 01:00 PM EST\n - 10/27/25 02:00 PM EST\Description:\nOctober 27, 2025; 1:00 - 2:00 pm Eastern\n\n \n\nInternational challenges and opportunities in antimicrobial resistance and antimicrobial stewardship\n\nThis talk will provide an overview of current international approaches, challenges and opportunities in antimicrobial stewardship. It will provide an update on going or planned initiatives and high-level meetings, and their potential impact on antimicrobial resistance action. It will also provide an overview of the challenges with addressing companion animals in global antimicrobial stewardship actions and strategies.\n\nPresented by: J. Scott Weese, DVM, DVSc, DACVIM (LAIM)\n\nDr. Weese is a veterinary internist and Professor at the Ontario Veterinary College, University of Guelph, Director of the University of Guelph Centre for Public Health and Zoonoses, Chief of Infection Control at the Ontario Veterinary College Health Sciences Centre. He is Chair of the WHO Advisory Group for Critically Important Antimicrobials in Human Medicine, a member of the Government of Canada’s Advisory Group on AMR, the quadripartite’s AMR Multistakeholder Partnership Platform and the Ontario Public Health Emergencies Scientific Advisory Committee, and a past member of the Quadripartite Global Leaders Group on AMR.  He runs the infectious disease website WormsAndGermsBlog (http://www.wormsandgermsblog.com).\n
X-ALT-DESC;FMTTYPE=text/html:CAAMS Seminar: International challenges and opportunities in antimicrobial resistance and antimicrobial stewardship<br /><br />10/27/25 01:00 PM EST - 10/27/25 02:00 PM EST<br />Description:<br /><p><strong>October 27, 2025; 1:00 - 2:00 pm Eastern</strong></p>

<p>&nbsp;</p>

<p><strong>International challenges and opportunities in antimicrobial resistance and antimicrobial stewardship</strong></p>

<p>This talk will provide an overview of current international approaches, challenges and opportunities in antimicrobial stewardship. It will provide an update on going or planned initiatives and high-level meetings, and their potential impact on antimicrobial resistance action. It will also provide an overview of the challenges with addressing companion animals in global antimicrobial stewardship actions and strategies.</p>

<p><strong>Presented by: J. Scott Weese, DVM, DVSc, DACVIM (LAIM)</strong></p>

<p>Dr. Weese is a veterinary internist and Professor at the Ontario Veterinary College, University of Guelph, Director of the University of Guelph Centre for Public Health and Zoonoses, Chief of Infection Control at the Ontario Veterinary College Health Sciences Centre. He is Chair of the WHO Advisory Group for Critically Important Antimicrobials in Human Medicine, a member of the Government of Canada&rsquo;s Advisory Group on AMR, the quadripartite&rsquo;s AMR Multistakeholder Partnership Platform and the Ontario Public Health Emergencies Scientific Advisory Committee, and a past member of the Quadripartite Global Leaders Group on AMR.&nbsp; He runs the infectious disease website WormsAndGermsBlog (<a href="http://www.wormsandgermsblog.com/">http://www.wormsandgermsblog.com</a>).</p>

PRIORITY:3
TRANSP:TRANSPARENT
BEGIN:VALARM
TRIGGER:-PT5M
ACTION:DISPLAY
DESCRIPTION:Reminder
END:VALARM
END:VEVENT
END:VCALENDAR
