BEGIN:VCALENDAR
VERSION:2.0
CALSCALE:GREGORIAN
METHOD:PUBLISH
PRODID://AFSW//454302
BEGIN:VEVENT
DTSTAMP:20260422T104555
VTIMEZONE:America/Chicago
DTSTART:20251103T223000Z
DTEND:20251104T020000Z
UID:454302
SUMMARY:November Chapter Meeting - Supplier Night
LOCATION:, WI
DESCRIPTION:November Chapter Meeting - Supplier Night\n\n11/03/25 04:30 PM CST\n - 11/03/25 08:00 PM CST
X-ALT-DESC;FMTTYPE=text/html:November Chapter Meeting - Supplier Night<br /><br />11/03/25 04:30 PM CST - 11/03/25 08:00 PM CST
PRIORITY:3
TRANSP:TRANSPARENT
BEGIN:VALARM
TRIGGER:-PT5M
ACTION:DISPLAY
DESCRIPTION:Reminder
END:VALARM
END:VEVENT
END:VCALENDAR
