BEGIN:VCALENDAR
VERSION:2.0
CALSCALE:GREGORIAN
METHOD:PUBLISH
PRODID://BALD//454267
BEGIN:VEVENT
DTSTAMP:20260420T084627
VTIMEZONE:America/Chicago
DTSTART:20251118T141500Z
DTEND:20251118T174500Z
UID:454267
SUMMARY:Impact in the Community:  Prodisee Pantry
LOCATION:Prodisee Pantry, 9315 Spanish Fort Blvd., Spanish Fort, AL, 36527
DESCRIPTION:Impact in the Community:  Prodisee Pantry\n\n11/18/25 08:15 AM CST\n - 11/18/25 11:45 AM CST\Description:\nThis is an opportunity for Impact members to volunteer at Prodisee Pantry (a 2023 Grant Recipient.) 30 volunteers are needed for morning food packing. \Location:\nProdisee Pantry\n9315 Spanish Fort Blvd.\nSpanish Fort, AL 36527
X-ALT-DESC;FMTTYPE=text/html:Impact in the Community:  Prodisee Pantry<br /><br />11/18/25 08:15 AM CST - 11/18/25 11:45 AM CST<br />Description:<br />This is an opportunity for Impact members to volunteer at Prodisee Pantry (a 2023 Grant Recipient.) 30 volunteers are needed for morning food packing.&nbsp;<br />Location:<br />Prodisee Pantry<br />9315 Spanish Fort Blvd.<br />Spanish Fort, AL 36527
PRIORITY:3
TRANSP:TRANSPARENT
BEGIN:VALARM
TRIGGER:-PT5M
ACTION:DISPLAY
DESCRIPTION:Reminder
END:VALARM
END:VEVENT
END:VCALENDAR
