BEGIN:VCALENDAR
VERSION:2.0
CALSCALE:GREGORIAN
METHOD:PUBLISH
PRODID://ILFA//454235
BEGIN:VEVENT
DTSTAMP:20260424T092537
VTIMEZONE:America/Chicago
DTSTART:20251117T150000Z
DTEND:20251117T213000Z
UID:454235
SUMMARY:Fall Workshop
LOCATION:Rend Lake College,  468 Ken Gray Pkwy, Ina, IL, 62846
DESCRIPTION:Fall Workshop\n\n11/17/25 09:00 AM CST\n - 11/17/25 03:30 PM CST\Description:\nThe workshop will feature a comprehensive agenda covering several key topics, including a high-level discussion on the implications of the (OBBB) legislation. We will explore how private lenders are preparing for potential increases in private loan borrowing. As well as a session on prioritizing mental health and wellness with an emphasis on practical approaches to support mental health, fostering a supportive environment, and promoting self-care practices essential for sustaining productivity and emotional stability during difficult times.\n \Location:\nRend Lake College\n 468 Ken Gray Pkwy\nIna, IL 62846
X-ALT-DESC;FMTTYPE=text/html:Fall Workshop<br /><br />11/17/25 09:00 AM CST - 11/17/25 03:30 PM CST<br />Description:<br />The workshop will feature a comprehensive agenda covering several key topics, including a high-level discussion on the implications of the (OBBB) legislation. We will explore how private lenders are preparing for potential increases in private loan borrowing. As well as a session on prioritizing mental health and wellness with an emphasis on practical approaches to support mental health, fostering a supportive environment, and promoting self-care practices essential for sustaining productivity and emotional stability during difficult times.<br />
&nbsp;<br />Location:<br />Rend Lake College<br /> 468 Ken Gray Pkwy<br />Ina, IL 62846
PRIORITY:3
TRANSP:TRANSPARENT
BEGIN:VALARM
TRIGGER:-PT5M
ACTION:DISPLAY
DESCRIPTION:Reminder
END:VALARM
END:VEVENT
END:VCALENDAR
