BEGIN:VCALENDAR
VERSION:2.0
CALSCALE:GREGORIAN
METHOD:PUBLISH
PRODID://NMA//454034
BEGIN:VEVENT
DTSTAMP:20260420T182234
VTIMEZONE:America/New_York
DTSTART:20251028T120000Z
DTEND:20251031T203000Z
UID:454034
SUMMARY:In-Person Family Training
LOCATION:Concord Mediation Center, Frederick Square, Omaha, NE, 68124
DESCRIPTION:In-Person Family Training\n\n10/28/25 08:00 AM EST\n - 10/31/25 04:30 PM EST\Description:\nOctober 28 - 31, 2025 | 8:00 am - 4:30 pm daily\n\n\nRegister Today!\n\n\nNMA Family Mediation Training\n\nThis advanced training builds on Basic Mediation Training and provides 30+ instructional hours over four days, plus an introduction period. It prepares mediators to assist separating families in creating or modifying parenting plans due to life changes such as children maturing, parental circumstances shifting, or new partners entering the family dynamic.\n\nWhile the training covers property, finance, and child support, its core focus is developing skills to mediate family conflicts. Role plays introduce private and joint mediation sessions using real-world parenting plan issues. This training also lays the groundwork for those pursuing further education in family mediation.\n\nA key section covers domestic violence, including power dynamics and techniques for screening out cases inappropriate for mediation due to domestic violence or child abuse.\n\nCertification & CLE Credit\nCompleting this course meets Nebraska Parenting Act mediator training requirements, including family violence screening. It has previously qualified for CLEs for attorneys, including ethics hours—contact us for details.\n\nTraining Components:\n\n\n	Mediation process overview\n	Nebraska family law & court system\n	Child & family development\n	Parenting plans\n	Family violence & power dynamics\n	Emotional dynamics in mediation\n	State referral resources for families\n\n\nPrerequisite: Basic Mediation Training\n\nParticipants must complete an ODR-approved Basic Mediation Training within the last five years. Approved courses include:\n\n\n	Nebraska Mediation Association\n	University of Nebraska College of Law\n	Creighton University’s Negotiation & Conflict Resolution Graduate Program\n	Creighton Law/Werner Institute\n	UNO (Instructor Cindy Tierney; others require syllabus approval)\n\n\nBasic Training Over Five Years Ago?\nApplicants must show active mediation experience or continuing education credits. Additional coursework may be required.\n\nNot Seeking Nebraska Parenting Act Approval?\nMediators outside Nebraska or attorneys improving parenting mediation skills must establish proficiency with the Lead Trainer, typically by submitting a syllabus and mediation experience. Additional training may be required.\n\nRegistration:\n\n\n	Includes a guided note-taking workbook\n	Is divided into two periods\n	\n		Early registration begins when registration opens and ends 30 days prior to the start of training\n		Late registration ends 14 days prior to the start of training \n		\n			Late registration includes an additional fee of $50.\n			Registrants are encouraged to register early!\n		\n		\n	\n	\n\n\n \n\nRegistration Costs:\n\nRegularly $850 per participant. \n\n\n	$850 for individual, early registrants\n	$900 for individual, late registrants\n	You must be a member to attend our Mediation Training, so please "Join" before registering for training\n	\n		Membership is a separate $50 fee\n	\n	\n\n\nThis Training will take place in person at Concord Mediation Center: \n\nFrederick Square | 2910 South 84th Street | Omaha, NE 68124  \n\nOctober 28 - 31, 2025\nSchedule:\n\n\n	Training runs 8:00 AM – 4:30 PM CT each day\n\n\nOctober 2025 Training Dates:\n\n\n	October 28 | 8:00 AM – 4:30 PM CT\n	October 29 | 8:00 AM – 4:30 PM CT\n	October 30 | 8:00 AM – 4:30 PM CT\n	October 31 | 8:00 AM – 4:30 PM CT\n\n\nThere is a one-hour lunch break each day.\nâ€‹Attendees are encouraged to budget their mealtime carefully as training will resume promptly at the designated time.\n\nPlease note that training events not meeting the minimum registration requirement may have to be rescheduled.\n\nNo additional Family Mediation Training dates are expected for 2025—register now!\n\n \n\nRegister Today!\n\n\nAffordable Lodging Nearby:\n\n\n \n\n\n	\n		\n			Comfort Inn Omaha SW I-80\n			10729 J St Omaha NE\n			DoubleTree by Hilton Omaha Southwest\n			3650 S 72nd St Omaha NE\n		\n	\n	\n	\n\n\n \n\n\Location:\nConcord Mediation Center\nFrederick Square\nOmaha, NE 68124
X-ALT-DESC;FMTTYPE=text/html:In-Person Family Training<br /><br />10/28/25 08:00 AM EST - 10/31/25 04:30 PM EST<br />Description:<br /><h1 style="text-align: center;"><span style="font-size:22px">October 28 - 31, 2025 | 8:00 am - 4:30 pm daily</span></h1>

<p style="text-align: center;"><br />
<a class="simple-button-plugin" href="https://www.viethconsulting.com/members/evr/reg_main.php?orgcode=NMA&amp;evid=53232443" style="display: inline-block; background-color: rgb(2, 168, 244); border: 1px solid rgb(2, 168, 244); padding: 5px 10px; border-radius: 5px; font-size: 14px; cursor: pointer; color: rgb(255, 255, 255) !important; text-decoration: none !important;" target="_blank">Register Today!</a></p>

<hr />
<p><strong><span style="font-size:22px">NMA Family Mediation Training</span></strong></p>

<p><span style="font-size:16px">This advanced training builds on <strong>Basic Mediation Training</strong> and provides <strong>30+ instructional hours over four days</strong>, plus an&nbsp;introduction period. It prepares mediators to assist separating families in creating or modifying parenting plans due to life changes such as children maturing, parental circumstances shifting, or new partners entering the family dynamic.</span></p>

<p><span style="font-size:16px">While the training covers <strong>property, finance, and child support</strong>, its core focus is developing skills to mediate <strong>family conflicts</strong>. Role plays introduce <strong>private and joint mediation sessions</strong> using real-world parenting plan issues. This training also lays the groundwork for those pursuing further education in family mediation.</span></p>

<p><span style="font-size:16px">A key section covers <strong>domestic violence</strong>, including power dynamics and techniques for screening out cases inappropriate for mediation due to domestic violence or child abuse.</span></p>

<p><span style="font-size:16px"><strong>Certification &amp; CLE Credit</strong><br />
Completing this course meets Nebraska Parenting Act mediator training requirements, including family violence screening. It has previously qualified for CLEs for attorneys, including ethics hours&mdash;contact us for details.</span></p>

<h3><span style="font-size:16px"><strong>Training Components:</strong></span></h3>

<ul>
	<li><span style="font-size:16px">Mediation process overview</span></li>
	<li><span style="font-size:16px">Nebraska family law &amp; court system</span></li>
	<li><span style="font-size:16px">Child &amp; family development</span></li>
	<li><span style="font-size:16px">Parenting plans</span></li>
	<li><span style="font-size:16px">Family violence &amp; power dynamics</span></li>
	<li><span style="font-size:16px">Emotional dynamics in mediation</span></li>
	<li><span style="font-size:16px">State referral resources for families</span></li>
</ul>

<h3><span style="font-size:16px"><strong>Prerequisite: Basic Mediation Training</strong></span></h3>

<p><span style="font-size:16px">Participants must complete an <strong>ODR-approved Basic Mediation Training</strong> within the last five years. Approved courses include:</span></p>

<ul>
	<li><span style="font-size:16px">Nebraska Mediation Association</span></li>
	<li><span style="font-size:16px">University of Nebraska College of Law</span></li>
	<li><span style="font-size:16px">Creighton University&rsquo;s Negotiation &amp; Conflict Resolution Graduate Program</span></li>
	<li><span style="font-size:16px">Creighton Law/Werner Institute</span></li>
	<li><span style="font-size:16px">UNO (Instructor Cindy Tierney; others require syllabus approval)</span></li>
</ul>

<p><span style="font-size:16px"><strong>Basic Training Over Five Years Ago?</strong><br />
Applicants must show active mediation experience or continuing education credits. Additional coursework may be required.</span></p>

<p><span style="font-size:16px"><strong>Not Seeking Nebraska Parenting Act Approval?</strong><br />
Mediators outside Nebraska or attorneys improving parenting mediation skills must establish proficiency with the Lead Trainer, typically by submitting a syllabus and mediation experience. Additional training may be required.</span></p>

<p class="neonBody"><span style="font-size:18px"><strong>Registration:</strong></span></p>

<ul>
	<li class="neonBody"><span style="font-size:18px">Includes a guided note-taking workbook</span></li>
	<li class="neonBody"><span style="font-size:18px">Is divided into two periods</span>
	<ul>
		<li class="neonBody"><span style="font-size:18px"><strong>Early registration</strong>&nbsp;begins when&nbsp;registration opens and ends 30&nbsp;days prior to the start of training</span></li>
		<li class="neonBody"><span style="font-size:18px"><strong>Late registration</strong>&nbsp;ends 14 days prior to the start of training&nbsp;</span>
		<ul>
			<li class="neonBody"><span style="font-size:18px"><strong>Late registration includes an additional fee of $50.</strong></span></li>
			<li class="neonBody"><span style="color:#ff0000"><span style="font-size:18px"><em>Registrants are encouraged to register early!</em></span></span></li>
		</ul>
		</li>
	</ul>
	</li>
</ul>

<div class="neonBody">&nbsp;</div>

<p class="neonBody"><em><span style="font-size:18px"><strong>Registration Costs:</strong></span></em></p>

<p class="neonBody"><em><span style="font-size:18px"><strong>Regularly $850&nbsp;per participant. </strong></span></em></p>

<ul>
	<li class="neonBody"><strong><span style="font-size:18px">$850 for individual, early registrants</span></strong></li>
	<li class="neonBody"><span style="font-size:18px"><strong>$900&nbsp;for individual, late registrants</strong></span></li>
	<li class="neonBody"><strong><span style="font-size:18px">You must be a member to attend our Mediation Training, so please &quot;Join&quot; before registering for training</span></strong>
	<ul>
		<li class="neonBody"><strong><span style="font-size:18px">Membership is a separate $50 fee</span></strong></li>
	</ul>
	</li>
</ul>

<p class="neonBody"><span style="font-size:22px"><strong>This Training will take place in person at Concord Mediation Center:&nbsp;</strong></span></p>

<p class="neonBody"><span style="font-size:18px"><a class="neon2Link" href="https://goo.gl/maps/fnMMaTSXFogSvdWC8" rel="nofollow">Frederick Square | 2910 South 84th&nbsp;Street&nbsp;|&nbsp;Omaha, NE 68124&nbsp;&nbsp;</a></span></p>

<p><span style="font-size:22px">October 28 - 31, 2025</span><br />
<span style="font-size:16px"><strong>Schedule:</strong></span></p>

<ul>
	<li><span style="font-size:16px">Training runs<strong> 8:00 AM &ndash; 4:30 PM CT</strong> each day</span></li>
</ul>

<h3><span style="font-size:16px"><strong>October 2025 Training Dates:</strong></span></h3>

<ul>
	<li><span style="font-size:16px"><strong>October 28</strong>&nbsp;| 8:00 AM &ndash; 4:30 PM CT</span></li>
	<li><span style="font-size:16px"><strong>October 29</strong> | 8:00 AM &ndash; 4:30 PM CT</span></li>
	<li><span style="font-size:16px"><strong>October 30</strong> | 8:00 AM &ndash; 4:30 PM CT</span></li>
	<li><span style="font-size:16px"><strong>October 31</strong> | 8:00 AM &ndash; 4:30 PM CT</span></li>
</ul>

<p class="neonBody" style="margin-left: 40px;"><span style="font-size:14px"><em><strong>There is a one-hour lunch break&nbsp;each day.<br />
â€‹Attendees are encouraged to budget their mealtime carefully as training will resume promptly at the designated time.</strong></em></span></p>

<p class="neonBody"><span style="color:#ff0000"><em>Please note that training events not meeting the minimum registration requirement may have to be rescheduled.</em></span></p>

<p><span style="font-size:16px"><em>No additional Family Mediation Training dates are expected&nbsp;for 2025&mdash;register now!</em></span></p>

<p class="neonBody" style="text-align: center;">&nbsp;</p>

<p class="neonBody" style="text-align: center;"><a class="simple-button-plugin" href="https://www.viethconsulting.com/members/evr/reg_main.php?orgcode=NMA&amp;evid=53232443" style="display: inline-block; background-color: rgb(2, 168, 244); border: 1px solid rgb(2, 168, 244); padding: 5px 10px; border-radius: 5px; font-size: 14px; cursor: pointer; color: rgb(255, 255, 255) !important; text-decoration: none !important;" target="_blank">Register Today!</a></p>

<hr />
<p class="neonBody" style="text-align: center;"><span style="font-size:18px">Affordable&nbsp;Lodging Nearby:</span></p>

<div>
<div style="text-align: center;">&nbsp;</div>

<table align="center" border="1" style="width:500px">
	<thead>
		<tr>
			<th scope="row"><a href="http://www.choicehotels.com/nebraska/omaha/comfort-inn-hotels/ne147">Comfort Inn Omaha SW I-80</a><br />
			10729 J St Omaha NE</th>
			<th scope="col"><a href="https://www.hilton.com/en/hotels/omastdt-doubletree-omaha-southwest/">DoubleTree by Hilton Omaha Southwest</a><br />
			3650 S 72nd St Omaha NE</th>
		</tr>
	</thead>
	<tbody>
	</tbody>
</table>

<p class="neonBody" style="text-align: center;">&nbsp;</p>
</div>
<br />Location:<br />Concord Mediation Center<br />Frederick Square<br />Omaha, NE 68124
PRIORITY:3
TRANSP:TRANSPARENT
BEGIN:VALARM
TRIGGER:-PT5M
ACTION:DISPLAY
DESCRIPTION:Reminder
END:VALARM
END:VEVENT
END:VCALENDAR
