BEGIN:VCALENDAR
VERSION:2.0
CALSCALE:GREGORIAN
METHOD:PUBLISH
PRODID://OWEA//453416
BEGIN:VEVENT
DTSTAMP:20260419T215756
VTIMEZONE:America/New_York
DTSTART:20251023T120000Z
DTEND:20251023T173000Z
UID:453416
SUMMARY:SWOWEA Collection Systems Hands-On Seminar
LOCATION:MCES Large Conference Room , 1850 Spaulding Road , Dayton, OH, 45432
DESCRIPTION:SWOWEA Collection Systems Hands-On Seminar\n\n10/23/25 08:00 AM EST\n - 10/23/25 01:30 PM EST\Description:\nFLYER\n \n\n	\n		\n			\n			Time\n			\n			\n			Topic\n			\n		\n		\n			\n			8:00 – 8:30am\n			\n			\n			Registration\n			\n		\n		\n			\n			8:30am - 9:15am\n			\n			\n			Screening Assessment Alternatives for Large Diameter Piping\n			\n		\n		\n			\n			9:15am - 10:00am\n			\n			\n			Hydraulics Based Pump Station Valve Solutions\n			\n		\n		\n			\n			10:00am - 10:15am\n			\n			\n			BREAK\n			\n		\n		\n			\n			10:15am - 11:00am\n			\n			\n			Solutions to Problematic Pump Stations\n			\n		\n		\n			\n			11:00am - 11:45am\n			\n			\n			Optimizing Pump Station Management- Web-based Monitoring\n			\n		\n		\n			\n			11:45am - 12:30pm\n			\n			\n			LUNCH\n			\n		\n		\n			\n			12:30pm - 1:30pm\n			\n			\n			Panel Discussion with Local Operators\n			\n		\n	\n\n\Location:\nMCES Large Conference Room \n1850 Spaulding Road \nDayton, OH 45432
X-ALT-DESC;FMTTYPE=text/html:SWOWEA Collection Systems Hands-On Seminar<br /><br />10/23/25 08:00 AM EST - 10/23/25 01:30 PM EST<br />Description:<br /><a href="https://www.ohiowea.org/docs/2025_Hands-On_Seminar-SW.pdf">FLYER</a><br />
&nbsp;
<table border="0" min-scale="0.4284023668639053" scaled-up="true" style="width:845px">
	<tbody>
		<tr>
			<td valign="bottom">
			<p><strong>Time</strong></p>
			</td>
			<td valign="bottom">
			<p><strong>Topic</strong></p>
			</td>
		</tr>
		<tr>
			<td valign="bottom">
			<p>8:00 &ndash; 8:30am</p>
			</td>
			<td data-ogsb="white" valign="bottom">
			<p>Registration</p>
			</td>
		</tr>
		<tr>
			<td valign="bottom">
			<p>8:30am - 9:15am</p>
			</td>
			<td data-ogsb="white" valign="bottom">
			<p>Screening Assessment Alternatives for Large Diameter Piping</p>
			</td>
		</tr>
		<tr>
			<td valign="bottom">
			<p>9:15am - 10:00am</p>
			</td>
			<td valign="bottom">
			<p>Hydraulics Based Pump Station Valve Solutions</p>
			</td>
		</tr>
		<tr>
			<td valign="bottom">
			<p>10:00am - 10:15am</p>
			</td>
			<td valign="bottom">
			<p>BREAK</p>
			</td>
		</tr>
		<tr>
			<td valign="bottom">
			<p>10:15am - 11:00am</p>
			</td>
			<td valign="bottom">
			<p>Solutions to Problematic Pump Stations</p>
			</td>
		</tr>
		<tr>
			<td valign="bottom">
			<p>11:00am - 11:45am</p>
			</td>
			<td data-ogsb="white" valign="bottom">
			<p>Optimizing Pump Station Management- Web-based Monitoring</p>
			</td>
		</tr>
		<tr>
			<td valign="bottom">
			<p>11:45am - 12:30pm</p>
			</td>
			<td valign="bottom">
			<p>LUNCH</p>
			</td>
		</tr>
		<tr>
			<td valign="bottom">
			<p>12:30pm - 1:30pm</p>
			</td>
			<td valign="bottom">
			<p>Panel Discussion with Local Operators</p>
			</td>
		</tr>
	</tbody>
</table>
<br />Location:<br />MCES Large Conference Room <br />1850 Spaulding Road <br />Dayton, OH 45432
PRIORITY:3
TRANSP:TRANSPARENT
BEGIN:VALARM
TRIGGER:-PT5M
ACTION:DISPLAY
DESCRIPTION:Reminder
END:VALARM
END:VEVENT
END:VCALENDAR
