BEGIN:VCALENDAR
VERSION:2.0
CALSCALE:GREGORIAN
METHOD:PUBLISH
PRODID://MEMA//453018
BEGIN:VEVENT
DTSTAMP:20260424T192145
VTIMEZONE:America/New_York
DTSTART:20251204T140000Z
DTEND:20251204T203000Z
UID:453018
SUMMARY:MDEMA Winter Summit
LOCATION:
DESCRIPTION:MDEMA Winter Summit\n\n12/04/25 09:00 AM EST\n - 12/04/25 03:30 PM EST\Description:\nThis inaugural event will bring together emergency management professionals from across the state for a day full of engaging speakers, timely discussions, and invaluable networking opportunities — all as we gear up for another winter (and beyond). Help us make history as we kick off what’s sure to become a cherished annual tradition!\n\nTentative Schedule:\n0830             Registration Open / Breakfast\n0900 - 1100  Exhibition Hall with Maryland State Coordinating Functions\n1100 - 1200  Presentation Block #1\n1200 - 1300  Lunch and Networking\n1300 - 1400  Presentation Block #2\n1400 - 1530  MDEMA Winter Meeting\n\n 
X-ALT-DESC;FMTTYPE=text/html:MDEMA Winter Summit<br /><br />12/04/25 09:00 AM EST - 12/04/25 03:30 PM EST<br />Description:<br /><meta charset="UTF-8" />This inaugural event will bring together emergency management professionals from across the state for a day full of engaging speakers, timely discussions, and invaluable networking opportunities &mdash; all as we gear up for another winter (and beyond). Help us make history as we kick off what&rsquo;s sure to become a cherished annual tradition!<br />
<br />
<u><strong>Tentative Schedule:</strong></u><br />
<strong>0830&nbsp; &nbsp; &nbsp; &nbsp; &nbsp; &nbsp; &nbsp;</strong>Registration Open / Breakfast<br />
<strong>0900 - 1100</strong>&nbsp; Exhibition Hall with Maryland State Coordinating Functions<br />
<strong>1100 - 1200</strong>&nbsp; Presentation Block #1<br />
<strong>1200 - 1300&nbsp;</strong> Lunch and Networking<br />
<strong>1300 - 1400</strong>&nbsp; Presentation Block #2<br />
<strong>1400 - 1530</strong>&nbsp; MDEMA Winter Meeting<br />
<br />
&nbsp;
PRIORITY:3
TRANSP:TRANSPARENT
BEGIN:VALARM
TRIGGER:-PT5M
ACTION:DISPLAY
DESCRIPTION:Reminder
END:VALARM
END:VEVENT
END:VCALENDAR
