BEGIN:VCALENDAR
VERSION:2.0
CALSCALE:GREGORIAN
METHOD:PUBLISH
PRODID://IPBC//452744
BEGIN:VEVENT
DTSTAMP:20260423T114336
VTIMEZONE:America/New_York
DTSTART:20251021T210000Z
DTEND:20251021T230000Z
UID:452744
SUMMARY:Impact's Two-Hour Tuesday 
LOCATION:Square Peg Pizzeria , 4957 W Atlantic Ave, Delray Beach
DESCRIPTION:Impact's Two-Hour Tuesday \n\n10/21/25 05:00 PM EST\n - 10/21/25 07:00 PM EST\Description:\nBring a friend and join us for bubbly, bites, and impactful connections! It's a great opportunity to introduce a friend to Impact 100 PBC. We are connecting, engaging, and inspiring women in our community to make great change by funding $100,000 to local nonprofits. \Location:\nSquare Peg Pizzeria \n4957 W Atlantic Ave\nDelray Beach,
X-ALT-DESC;FMTTYPE=text/html:Impact's Two-Hour Tuesday <br /><br />10/21/25 05:00 PM EST - 10/21/25 07:00 PM EST<br />Description:<br />Bring a friend and join us&nbsp;for bubbly, bites, and impactful connections! It's a great opportunity to introduce a friend to Impact 100 PBC. We are connecting, engaging, and inspiring women in our community to make great change by funding $100,000 to local nonprofits.&nbsp;<br />Location:<br />Square Peg Pizzeria <br />4957 W Atlantic Ave<br />Delray Beach,  
PRIORITY:3
TRANSP:TRANSPARENT
BEGIN:VALARM
TRIGGER:-PT5M
ACTION:DISPLAY
DESCRIPTION:Reminder
END:VALARM
END:VEVENT
END:VCALENDAR
