BEGIN:VCALENDAR
VERSION:2.0
CALSCALE:GREGORIAN
METHOD:PUBLISH
PRODID://FDIA//451823
BEGIN:VEVENT
DTSTAMP:20260420T151147
VTIMEZONE:America/New_York
DTSTART:20260713T120000Z
DTEND:20260717T210000Z
UID:451823
SUMMARY:Deviant Sexual Behavior and Related Criminal Activity
LOCATION:IPTM - University of North Florida, 12000 Alumni Drive, Jacksonville, FL, 32224
DESCRIPTION:Deviant Sexual Behavior and Related Criminal Activity\n\n07/13/26 08:00 AM EST\n - 07/17/26 05:00 PM EST\Description:\nTo successfully solve violent, sexually motivated crimes, you need to be aware of the criminal personality you are confronting. You also need to be aware of the special investigative skills that are needed to manage and investigate these cases, as well as the proper evidence needed for prosecution.\n\nThis course will cover basic and advanced investigative concepts and provide you with the knowledge and skills of an effective sex crime investigator. Students will engage in an in-depth study of the lust murderer, the pedophile, the child molester and the rapist. We will also explore the psychology of the sex offender, as well as the victim, and explain the role physical evidence and the medical examiner’s findings play in the successful investigation and prosecution of these cases.\n\nAs these cases are often sensitive in nature, you’ll also learn the principles of victimology in sexual assaults and how to best deal with the victims’ psychological problems. We’ll examine the latest proven techniques for interviewing both adult and child victims suffering the after effects of such a traumatic experience.\n\nTopics Include\n\n\n	Overview of sexually motivated crimes\n	The pedophile vs. the child molester\n	The criminal mind and abnormal psychology\n	Paraphilia and erotosexual dysfunction\n	Exploitation of children, child pornography and sex rings\n	Behavioral and personality traits of rapists\n	Physical evidence in sex crimes\n	Serial and lust murders\n	Autoerotic and equivocal death investigations\n	Crime scene profiling\n\n\nAudience\n\nNewly assigned and seasoned detectives, investigations supervisors, crime scene technicians, medical examiner and coroner investigators, prosecutors and military investigative personnel\n\nThis class is restricted to sworn law enforcement officers and those personnel assigned directly to law enforcement agencies.\n\Details:\nTraining Hours: 40 hours\nTuition: $895.00\Location:\nIPTM - University of North Florida\n12000 Alumni Drive\nJacksonville, FL 32224
X-ALT-DESC;FMTTYPE=text/html:Deviant Sexual Behavior and Related Criminal Activity<br /><br />07/13/26 08:00 AM EST - 07/17/26 05:00 PM EST<br />Description:<br /><p>To successfully solve violent, sexually motivated crimes, you need to be aware of the criminal personality you are confronting. You also need to be aware of the special investigative skills that are needed to manage and investigate these cases, as well as the proper evidence needed for prosecution.</p>

<p>This course will cover basic and advanced investigative concepts and provide you with the knowledge and skills of an effective sex crime investigator. Students will engage in an in-depth study of the lust murderer, the pedophile, the child molester and the rapist. We will also explore the psychology of the sex offender, as well as the victim, and explain the role physical evidence and the medical examiner&rsquo;s findings play in the successful investigation and prosecution of these cases.</p>

<p>As these cases are often sensitive in nature, you&rsquo;ll also learn the principles of victimology in sexual assaults and how to best deal with the victims&rsquo; psychological problems. We&rsquo;ll examine the latest proven techniques for interviewing both adult and child victims suffering the after effects of such a traumatic experience.</p>

<h2>Topics Include</h2>

<ul>
	<li>Overview of sexually motivated crimes</li>
	<li>The pedophile vs. the child molester</li>
	<li>The criminal mind and abnormal psychology</li>
	<li>Paraphilia and erotosexual dysfunction</li>
	<li>Exploitation of children, child pornography and sex rings</li>
	<li>Behavioral and personality traits of rapists</li>
	<li>Physical evidence in sex crimes</li>
	<li>Serial and lust murders</li>
	<li>Autoerotic and equivocal death investigations</li>
	<li>Crime scene profiling</li>
</ul>

<h2>Audience</h2>

<p>Newly assigned and seasoned detectives, investigations supervisors, crime scene technicians, medical examiner and coroner investigators, prosecutors and military investigative personnel</p>

<p><strong>This class is restricted to sworn law enforcement officers and those personnel assigned directly to law enforcement agencies.</strong></p>
<br />Details:<br />Training Hours: 40 hours<br />
Tuition: $895.00<br />Location:<br />IPTM - University of North Florida<br />12000 Alumni Drive<br />Jacksonville, FL 32224
PRIORITY:3
TRANSP:TRANSPARENT
BEGIN:VALARM
TRIGGER:-PT5M
ACTION:DISPLAY
DESCRIPTION:Reminder
END:VALARM
END:VEVENT
END:VCALENDAR
