BEGIN:VCALENDAR
VERSION:2.0
CALSCALE:GREGORIAN
METHOD:PUBLISH
PRODID://FDIA//451695
BEGIN:VEVENT
DTSTAMP:20260424T110942
VTIMEZONE:America/New_York
DTSTART:20260817T120000Z
DTEND:20260818T210000Z
UID:451695
SUMMARY:Forensic Bloodstains: Enhancement and Documentation 
LOCATION:IPTM - University of North Florida, 12000 Alumni Drive, Jacksonville, FL, 32224
DESCRIPTION:Forensic Bloodstains: Enhancement and Documentation \n\n08/17/26 08:00 AM EST\n - 08/18/26 05:00 PM EST\Description:\nThis course will provide you with in-depth instruction on the correct procedures for processing blood evidence at a crime scene or in a lab. You will gain an understanding of basic bloodstain patterns encountered at crime scenes, how to properly document those patterns, and how to utilize various chemical enhancement techniques. You will learn methods to evaluate a crime scene to determine the type of crime that has been committed and the physical parameters of the area of involvement. We will show you how to properly locate, document, collect, and preserve the physical evidence at the scene. You will also be introduced to networks and databases that can assist you in the investigative process.\n\nExercises will reinforce the classroom discussions to enhance your understanding of the basic principles of bloodstain pattern analysis, enhancement techniques, including chemical and alternate light sources, and proper documentation and collection.\n\nTopics Include\n\n\n	Crime scene analysis\n	Overview of bloodstain principles\n	Recognition of bloodstain patterns\n	Presumptive tests for blood\n	Blood chemical enhancement techniques\n	Photography documentation\n\n\nAudience\n\nCrime scene technicians, crimes against persons detectives, investigations supervisors, forensic investigators, first responding officers, medical examiner and coroner investigators, military investigative personnel, and non-sworn personnel who process crime scenes.\n\nThis course is restricted to active sworn and non-sworn law enforcement and medical examiner personnel.\n\Details:\nTraining Hours: 16 hours\nTuition: $595\Location:\nIPTM - University of North Florida\n12000 Alumni Drive\nJacksonville, FL 32224
X-ALT-DESC;FMTTYPE=text/html:Forensic Bloodstains: Enhancement and Documentation <br /><br />08/17/26 08:00 AM EST - 08/18/26 05:00 PM EST<br />Description:<br /><p>This course will provide you with in-depth instruction on the correct procedures for processing blood evidence at a crime scene or in a lab. You will gain an understanding of basic bloodstain patterns encountered at crime scenes, how to properly document those patterns, and how to utilize various chemical enhancement techniques. You will learn methods to evaluate a crime scene to determine the type of crime that has been committed and the physical parameters of the area of involvement. We will show you how to properly locate, document, collect, and preserve the physical evidence at the scene. You will also be introduced to networks and databases that can assist you in the investigative process.</p>

<p>Exercises will reinforce the classroom discussions to enhance your understanding of the basic principles of bloodstain pattern analysis, enhancement techniques, including chemical and alternate light sources, and proper documentation and collection.</p>

<h2>Topics Include</h2>

<ul>
	<li>Crime scene analysis</li>
	<li>Overview of bloodstain principles</li>
	<li>Recognition of bloodstain patterns</li>
	<li>Presumptive tests for blood</li>
	<li>Blood chemical enhancement techniques</li>
	<li>Photography documentation</li>
</ul>

<h2>Audience</h2>

<p>Crime scene technicians, crimes against persons detectives, investigations supervisors, forensic investigators, first responding officers, medical examiner and coroner investigators, military investigative personnel, and non-sworn personnel who process crime scenes.</p>

<p><strong>This course is restricted to active sworn and non-sworn law enforcement and medical examiner personnel.</strong></p>
<br />Details:<br />Training Hours: 16 hours<br />
Tuition: $595<br />Location:<br />IPTM - University of North Florida<br />12000 Alumni Drive<br />Jacksonville, FL 32224
PRIORITY:3
TRANSP:TRANSPARENT
BEGIN:VALARM
TRIGGER:-PT5M
ACTION:DISPLAY
DESCRIPTION:Reminder
END:VALARM
END:VEVENT
END:VCALENDAR
