BEGIN:VCALENDAR
VERSION:2.0
CALSCALE:GREGORIAN
METHOD:PUBLISH
PRODID://DRTO//450965
BEGIN:VEVENT
DTSTAMP:20260424T154019
VTIMEZONE:America/New_York
DTSTART:20250917T170000Z
DTEND:20250917T183000Z
UID:450965
SUMMARY:Under Pressure: Organizations Striving for Compliance Within Changing Global Regulationsnew event
LOCATION:
DESCRIPTION:Under Pressure: Organizations Striving for Compliance Within Changing Global Regulationsnew event\n\n09/17/25 01:00 PM EST\n - 09/17/25 02:30 PM EST\Description:\nDate: Wednesday, September 17\nTime: 1:00 – 2:30 PM (ET)\nLocation: Microsoft Teams (Virtual Session)\nCost: Free for all attendees\nNote: This session will not be recorded — be sure to register so you don’t miss out!\n\nWhat to Expect\nJoin us for an engaging and informative virtual session featuring expert insights on navigating evolving global regulations and their impact on organizational compliance\nand resilience.\n\nAll registered participants will receive a Microsoft Teams invitation prior to the event.\nPlease accept the invitation to secure your spot.\n\nAgenda:\nSession 1:\nElspeth Bowler, OSFI\nTopic: Sharing Industry Insights on B-10, B-13, and E-21 from OSFI’s Perspective\n\nSession 2:\nMark Barboza, Partner at PwC\nTopic: Global Regulations – Implementation Opportunities and Challenges for\nResilience Programs\n\nSpeaker Bios\n\nElspeth Bowler, B.Sc., MBA, CPA, CGA – Ontario Superintendent of Financial Institutions (OSFI)\nElspeth brings over 30 years of experience in the financial services industry. She joined OSFI in 2012 and currently serves as Managing Director of the Operational Risk Division. Her career spans roles in reporting, planning, financial initiatives, and capital management across various insurance companies.\nEducation: B.Sc. from McGill University, MBA from Ivey School of Business, CPA, CGA.\n\nMark Barboza\nPartner at PwC – Operational Resilience | Operational Risk | Technology Internal Audit\nLinkedIn: (23) Mark Barboza | LinkedIn\nFull bio to follow.
X-ALT-DESC;FMTTYPE=text/html:Under Pressure: Organizations Striving for Compliance Within Changing Global Regulationsnew event<br /><br />09/17/25 01:00 PM EST - 09/17/25 02:30 PM EST<br />Description:<br />Date:&nbsp;Wednesday, September 17<br />
Time:&nbsp;1:00 &ndash; 2:30 PM (ET)<br />
Location:&nbsp;Microsoft Teams (Virtual Session)<br />
Cost:&nbsp;Free for all attendees<br />
Note:&nbsp;This session will&nbsp;not&nbsp;be recorded &mdash; be sure to register so you don&rsquo;t miss out!<br />
<br />
<span style="font-size:14px"><strong>What to Expect</strong></span><br />
Join us for an engaging and informative virtual session featuring expert insights on navigating evolving global regulations and their impact on organizational compliance<br />
and resilience.<br />
<br />
All registered participants will receive a Microsoft Teams invitation prior to the event.<br />
Please accept the invitation to secure your spot.<br />
<br />
<span style="font-size:14px"><strong>Agenda:</strong></span><br />
<strong>Session 1:</strong><br />
Elspeth Bowler, OSFI<br />
Topic:&nbsp;Sharing Industry Insights on B-10, B-13, and E-21 from OSFI&rsquo;s Perspective<br />
<br />
<strong>Session 2:</strong><br />
Mark Barboza, Partner at PwC<br />
Topic:&nbsp;Global Regulations &ndash; Implementation Opportunities and Challenges for<br />
Resilience Programs<br />
<br />
<span style="font-size:14px"><strong>Speaker Bios</strong></span><br />
<br />
<strong>Elspeth Bowler, B.Sc., MBA, CPA, CGA</strong> &ndash; Ontario Superintendent of Financial Institutions (OSFI)<br />
Elspeth brings over 30 years of experience in the financial services industry. She joined OSFI in 2012 and currently serves as Managing Director of the Operational Risk Division. Her career spans roles in reporting, planning, financial initiatives, and capital management across various insurance companies.<br />
Education: B.Sc. from McGill University, MBA from Ivey School of Business, CPA, CGA.<br />
<br />
<strong>Mark Barboza</strong><br />
Partner at PwC &ndash; Operational Resilience | Operational Risk | Technology Internal Audit<br />
LinkedIn: (23) Mark Barboza | LinkedIn<br />
<em>Full bio to follow.</em>
PRIORITY:3
TRANSP:TRANSPARENT
BEGIN:VALARM
TRIGGER:-PT5M
ACTION:DISPLAY
DESCRIPTION:Reminder
END:VALARM
END:VEVENT
END:VCALENDAR
