BEGIN:VCALENDAR
VERSION:2.0
CALSCALE:GREGORIAN
METHOD:PUBLISH
PRODID://NEAS//450902
BEGIN:VEVENT
DTSTAMP:20260424T075301
VTIMEZONE:America/Chicago
DTSTART:20251017T121500Z
DTEND:20251019T223000Z
UID:450902
SUMMARY:Annual National Council for Geographic Education (NCGE) Conference
LOCATION:Omaha, NE
DESCRIPTION:Annual National Council for Geographic Education (NCGE) Conference\n\n10/17/25 07:15 AM CST\n - 10/19/25 05:30 PM CST\Description:\nWhy Attend?\n\nDesigned with busy educators' schedules in mind.  The 3-day (long weekend) conference provides you with the most engaging conference where you will be able to:\n\n1.    Connect with geography teachers, professionals, and colleagues\n2.    Attend engaging sessions to increase your professional learning\n3.    Get the newest geographic tools and ideas to incorporate into the classroom and share with colleagues\n\n \Location:\nOmaha, NE\n\n,
X-ALT-DESC;FMTTYPE=text/html:Annual National Council for Geographic Education (NCGE) Conference<br /><br />10/17/25 07:15 AM CST - 10/19/25 05:30 PM CST<br />Description:<br />Why Attend?<br />
<br />
Designed with busy educators' schedules in mind.&nbsp; The 3-day (long weekend) conference provides you with the most engaging conference where you will be able to:<br />
<br />
1.&nbsp; &nbsp; Connect with geography teachers, professionals, and colleagues<br />
2.&nbsp; &nbsp; Attend engaging sessions to increase your professional learning<br />
3.&nbsp; &nbsp; Get the newest geographic tools and ideas to incorporate into the classroom and share with colleagues<br />
<br />
&nbsp;<br />Location:<br />Omaha, NE<br /><br />,  
PRIORITY:3
TRANSP:TRANSPARENT
BEGIN:VALARM
TRIGGER:-PT5M
ACTION:DISPLAY
DESCRIPTION:Reminder
END:VALARM
END:VEVENT
END:VCALENDAR
