BEGIN:VCALENDAR
VERSION:2.0
CALSCALE:GREGORIAN
METHOD:PUBLISH
PRODID://WASF//450833
BEGIN:VEVENT
DTSTAMP:20260421T063402
VTIMEZONE:America/Los_Angeles
DTSTART:20251008T180000Z
DTEND:20251008T200000Z
UID:450833
SUMMARY:2025 Fall Training: V1 Verification and FAFSA Data on the 2024 Income Tax Returns
LOCATION:Virtual Session: MS Teams meeting details will be shared upon registration confirmation.
DESCRIPTION:2025 Fall Training: V1 Verification and FAFSA Data on the 2024 Income Tax Returns\n\n10/08/25 11:00 AM PST\n - 10/08/25 01:00 PM PST\Description:\nIn this webinar, we will review the FAFSA data elements that must be reviewed when a student is selected for V1 verification, and the documentation we must collect to conduct the review. We’ll also review the 2024 tax forms and locate all of the FAFSA tax data, and how we can identify which “applicable schedules” are needed if we receive a 1040, but do not receive Schedule 1 or Form 8863.\n\nPresenter: Robert Weinermann\n \n\Location:\nVirtual Session: MS Teams meeting details will be shared upon registration confirmation.\n\n,
X-ALT-DESC;FMTTYPE=text/html:2025 Fall Training: V1 Verification and FAFSA Data on the 2024 Income Tax Returns<br /><br />10/08/25 11:00 AM PST - 10/08/25 01:00 PM PST<br />Description:<br /><p dir="ltr"><strong>In this webinar, we will review the FAFSA data elements that must be reviewed when a student is selected for V1 verification, and the documentation we must collect to conduct the review. We&rsquo;ll also review the 2024 tax forms and locate all of the FAFSA tax data, and how we can identify which &ldquo;applicable schedules&rdquo; are needed if we receive a 1040, but do not receive Schedule 1 or Form 8863.</strong><br />
<br />
<strong>Presenter:&nbsp;Robert Weinermann</strong><br />
&nbsp;</p>
<br />Location:<br />Virtual Session: MS Teams meeting details will be shared upon registration confirmation.<br /><br />,  
PRIORITY:3
TRANSP:TRANSPARENT
BEGIN:VALARM
TRIGGER:-PT5M
ACTION:DISPLAY
DESCRIPTION:Reminder
END:VALARM
END:VEVENT
END:VCALENDAR
