BEGIN:VCALENDAR
VERSION:2.0
CALSCALE:GREGORIAN
METHOD:PUBLISH
PRODID://IHSA//448670
BEGIN:VEVENT
DTSTAMP:20260423T221256
VTIMEZONE:America/Chicago
DTSTART:20260428T150000Z
DTEND:20260428T170000Z
UID:448670
SUMMARY:Mental Health, Wellness & SEL QEC
LOCATION:, IL
DESCRIPTION:Mental Health, Wellness & SEL QEC\n\n04/28/26 10:00 AM CST\n - 04/28/26 12:00 PM CST\Description:\nMental Health, Wellness & SEL QEC\n\nJoin a peer-led learning group for professionals leading mental health, wellness, and social-emotional learning (SEL) efforts in Head Start and Early Head Start. This Quality Enrichment Circle (QEC) is a virtual space for real talk, skill-building, and practical problem-solving with others supporting emotional well-being across programs.\n\nYou’ll connect with peers working on behavior supports, staff wellness plans, trauma-informed practices, and SEL integration. Whether you're a consultant or managing a team, you’ll get grounded support and fresh ideas to strengthen your mental health systems.\n\nSessions are led by experienced practitioners and include guest speakers, breakout discussions by region, and plenty of time to learn from each other. You’ll walk away with new tools, fresh insights, and a stronger network of colleagues.\n\nAll QECs are fully virtual, with flexible attendance. No travel. No fluff. Just useful time spent with people who get it.\n
X-ALT-DESC;FMTTYPE=text/html:Mental Health, Wellness & SEL QEC<br /><br />04/28/26 10:00 AM CST - 04/28/26 12:00 PM CST<br />Description:<br /><div style="text-align: center;"><strong>Mental Health, Wellness &amp; SEL QEC</strong></div>

<p>Join a peer-led learning group for professionals leading mental health, wellness, and social-emotional learning (SEL) efforts in Head Start and Early Head Start. This Quality Enrichment Circle (QEC) is a virtual space for real talk, skill-building, and practical problem-solving with others supporting emotional well-being across programs.</p>

<p>You&rsquo;ll connect with peers working on behavior supports, staff wellness plans, trauma-informed practices, and SEL integration. Whether you're a consultant or managing a team, you&rsquo;ll get grounded support and fresh ideas to strengthen your mental health systems.</p>

<p>Sessions are led by experienced practitioners and include guest speakers, breakout discussions by region, and plenty of time to learn from each other. You&rsquo;ll walk away with new tools, fresh insights, and a stronger network of colleagues.</p>

<p>All QECs are fully virtual, with flexible attendance. No travel. No fluff. Just useful time spent with people who get it.</p>

PRIORITY:3
TRANSP:TRANSPARENT
BEGIN:VALARM
TRIGGER:-PT5M
ACTION:DISPLAY
DESCRIPTION:Reminder
END:VALARM
END:VEVENT
END:VCALENDAR
