BEGIN:VCALENDAR
VERSION:2.0
CALSCALE:GREGORIAN
METHOD:PUBLISH
PRODID://OMEA//444449
BEGIN:VEVENT
DTSTAMP:20260421T155341
VTIMEZONE:America/New_York
DTSTART:20260524T180000Z
DTEND:20260524T193000Z
UID:444449
SUMMARY:D8 - Spring Meeting 
LOCATION:TBD, OH
DESCRIPTION:D8 - Spring Meeting \n\n05/24/26 02:00 PM EST\n - 05/24/26 03:30 PM EST\Description:\nDistrict 8 Spring Meeting Location TBD\Details:\nDistrict 8 Spring Meeting Location TBD\Location:\nTBD\n\n, OH
X-ALT-DESC;FMTTYPE=text/html:D8 - Spring Meeting <br /><br />05/24/26 02:00 PM EST - 05/24/26 03:30 PM EST<br />Description:<br />District 8 Spring Meeting Location TBD<br />Details:<br />District 8 Spring Meeting Location TBD<br />Location:<br />TBD<br /><br />, OH 
PRIORITY:3
TRANSP:TRANSPARENT
BEGIN:VALARM
TRIGGER:-PT5M
ACTION:DISPLAY
DESCRIPTION:Reminder
END:VALARM
END:VEVENT
END:VCALENDAR
