BEGIN:VCALENDAR
VERSION:2.0
CALSCALE:GREGORIAN
METHOD:PUBLISH
PRODID://AAFS//443382
BEGIN:VEVENT
DTSTAMP:20260421T045101
VTIMEZONE:America/Denver
DTSTART:20251030T140000Z
DTEND:20251106T000000Z
UID:443382
SUMMARY:USAHA Annual Meeting
LOCATION:
DESCRIPTION:USAHA Annual Meeting\n\n10/30/25 08:00 AM MST\n - 11/05/25 05:00 PM MST\Description:\nOctober 30 – November 5, 2025\nGaylord Rockies Hotel\nAurora (Denver), Colorado\n\nRegistration – Coming in July\n\nHotel Information- Coming Soon!\n
X-ALT-DESC;FMTTYPE=text/html:USAHA Annual Meeting<br /><br />10/30/25 08:00 AM MST - 11/05/25 05:00 PM MST<br />Description:<br /><p>October 30 &ndash; November 5, 2025<br />
Gaylord Rockies Hotel<br />
Aurora (Denver), Colorado</p>

<h3>Registration &ndash; Coming in July</h3>

<h3>Hotel Information- Coming Soon!</h3>

PRIORITY:3
TRANSP:TRANSPARENT
BEGIN:VALARM
TRIGGER:-PT5M
ACTION:DISPLAY
DESCRIPTION:Reminder
END:VALARM
END:VEVENT
END:VCALENDAR
