BEGIN:VCALENDAR
VERSION:2.0
CALSCALE:GREGORIAN
METHOD:PUBLISH
PRODID://OMEA//441008
BEGIN:VEVENT
DTSTAMP:20260424T162137
VTIMEZONE:America/New_York
DTSTART:20260501T200000Z
DTEND:20260503T020000Z
UID:441008
SUMMARY:NW - HS State Choir
LOCATION:Van Buren High School, 217 S Main St, Van Buren, OH, 45889
DESCRIPTION:NW - HS State Choir\n\n05/01/26 04:00 PM EST\n - 05/02/26 10:00 PM EST\Description:\nThis is the NW Region State Choir Large Group Adjudicated Event. Please contact the event chair with any questions.\Details:\nPlease contact the event chair for additional information.\n\Location:\nVan Buren High School\n217 S Main St\nVan Buren, OH 45889
X-ALT-DESC;FMTTYPE=text/html:NW - HS State Choir<br /><br />05/01/26 04:00 PM EST - 05/02/26 10:00 PM EST<br />Description:<br />This is the NW Region State Choir Large Group Adjudicated Event. Please contact the event chair with any questions.<br />Details:<br /><p>Please contact the event chair for additional information.</p>
<br />Location:<br />Van Buren High School<br />217 S Main St<br />Van Buren, OH 45889
PRIORITY:3
TRANSP:TRANSPARENT
BEGIN:VALARM
TRIGGER:-PT5M
ACTION:DISPLAY
DESCRIPTION:Reminder
END:VALARM
END:VEVENT
END:VCALENDAR
