BEGIN:VCALENDAR
VERSION:2.0
CALSCALE:GREGORIAN
METHOD:PUBLISH
PRODID://OMEA//425697
BEGIN:VEVENT
DTSTAMP:20260423T113902
VTIMEZONE:America/New_York
DTSTART:20260514T220000Z
DTEND:20260515T000000Z
UID:425697
SUMMARY:D1 - Spring Meeting
LOCATION:Pettisville High School, 232 Summit Street, Pettisville, OH, 43553
DESCRIPTION:D1 - Spring Meeting\n\n05/14/26 06:00 PM EST\n - 05/14/26 08:00 PM EST\Description:\nDistrict 1 Spring Meeting\Details:\nDinner at 6:00pm\nMeeting at 6:30pm\n\nPettisville High School\n232 Summit Street, Pettisville, Ohio 43553\n\nSite Host: Duane Beck\Location:\nPettisville High School\n232 Summit Street\nPettisville, OH 43553
X-ALT-DESC;FMTTYPE=text/html:D1 - Spring Meeting<br /><br />05/14/26 06:00 PM EST - 05/14/26 08:00 PM EST<br />Description:<br />District 1 Spring Meeting<br />Details:<br />Dinner at 6:00pm<br />
Meeting at 6:30pm<br />
<br />
Pettisville High School<br />
232 Summit Street, Pettisville, Ohio 43553<br />
<br />
Site Host:&nbsp;Duane Beck<br />Location:<br />Pettisville High School<br />232 Summit Street<br />Pettisville, OH 43553
PRIORITY:3
TRANSP:TRANSPARENT
BEGIN:VALARM
TRIGGER:-PT5M
ACTION:DISPLAY
DESCRIPTION:Reminder
END:VALARM
END:VEVENT
END:VCALENDAR
