BEGIN:VCALENDAR
VERSION:2.0
CALSCALE:GREGORIAN
METHOD:PUBLISH
PRODID://OMEA//424804
BEGIN:VEVENT
DTSTAMP:20260425T185829
VTIMEZONE:America/New_York
DTSTART:20260504T230000Z
DTEND:20260505T013000Z
UID:424804
SUMMARY:D3 - Spring Meeting
LOCATION:Elida High School Band Room, 401 E North St, Elida, OH, 45807
DESCRIPTION:D3 - Spring Meeting\n\n05/04/26 07:00 PM EST\n - 05/04/26 09:30 PM EST\Description:\nD3 Spring Meeting\Details:\nD3 Spring Meeting\Location:\nElida High School Band Room\n401 E North St\nElida, OH 45807
X-ALT-DESC;FMTTYPE=text/html:D3 - Spring Meeting<br /><br />05/04/26 07:00 PM EST - 05/04/26 09:30 PM EST<br />Description:<br />D3 Spring Meeting<br />Details:<br />D3 Spring Meeting<br />Location:<br />Elida High School Band Room<br />401 E North St<br />Elida, OH 45807
PRIORITY:3
TRANSP:TRANSPARENT
BEGIN:VALARM
TRIGGER:-PT5M
ACTION:DISPLAY
DESCRIPTION:Reminder
END:VALARM
END:VEVENT
END:VCALENDAR
