BEGIN:VCALENDAR
VERSION:2.0
CALSCALE:GREGORIAN
METHOD:PUBLISH
PRODID://CRWA//424187
BEGIN:VEVENT
DTSTAMP:20260422T195326
VTIMEZONE:America/Denver
DTSTART:20251023T140000Z
DTEND:20251023T160000Z
UID:424187
SUMMARY:Thickening & Anaerobic Digestion Basics
LOCATION:
DESCRIPTION:Thickening & Anaerobic Digestion Basics\n\n10/23/25 08:00 AM MST\n - 10/23/25 10:00 AM MST\Description:\nA review of common equipment used for the thickening process and the advantages and disadvantages of each. Learn the warning signs of digesters upsets, why they occur, and what to watch for to avoid them. A USA Blue Book/CRWA course.\nLearn the advantages and disadvantages of each thickening process.\nLearn the warning signs of digester upsets, why they occur, and how to avoid them.\n\nTU's :0.3\nWater Treatment 0\nWastewater Treatment  0.2\nIndustrial Wastewater Treatment 0.2\nWater Distribution  0\nWastewater Collection 0\n 
X-ALT-DESC;FMTTYPE=text/html:Thickening & Anaerobic Digestion Basics<br /><br />10/23/25 08:00 AM MST - 10/23/25 10:00 AM MST<br />Description:<br />A review of common equipment used for the thickening process and the advantages and disadvantages of each. Learn the warning signs of digesters upsets, why they occur, and what to watch for to avoid them. A USA Blue Book/CRWA course.<br />
Learn the advantages and disadvantages of each thickening process.<br />
Learn the warning signs of digester upsets, why they occur, and how to avoid them.<br />
<br />
TU's :0.3<br />
Water Treatment 0<br />
Wastewater Treatment&nbsp; 0.2<br />
Industrial Wastewater Treatment 0.2<br />
Water Distribution&nbsp; 0<br />
Wastewater Collection 0<br />
&nbsp;
PRIORITY:3
TRANSP:TRANSPARENT
BEGIN:VALARM
TRIGGER:-PT5M
ACTION:DISPLAY
DESCRIPTION:Reminder
END:VALARM
END:VEVENT
END:VCALENDAR
