BEGIN:VCALENDAR
VERSION:2.0
CALSCALE:GREGORIAN
METHOD:PUBLISH
PRODID://CRWA//424186
BEGIN:VEVENT
DTSTAMP:20260422T081342
VTIMEZONE:America/Denver
DTSTART:20251016T140000Z
DTEND:20251016T170000Z
UID:424186
SUMMARY:Chemical Feed Systems with Chlorine
LOCATION:
DESCRIPTION:Chemical Feed Systems with Chlorine\n\n10/16/25 08:00 AM MST\n - 10/16/25 11:00 AM MST\Description:\nWhether you prefer diaphragm or peristaltic pumps, learn about the operation, maintenance, and troubleshooting of these industry workhorses. This course also equips you to determine which pumps will work best in your application—and which to avoid. It also covers calculating doses and setting controls.\nCourses three hours and longer include hands-on operation and maintenance of popular chemical feed pumps.\n\nTU's :0.3\nWater Treatment 0.3\nWastewater Treatment  0.3\nIndustrial Wastewater Treatment 0.3\nWater Distribution  0.3\nWastewater Collection 0.15\n 
X-ALT-DESC;FMTTYPE=text/html:Chemical Feed Systems with Chlorine<br /><br />10/16/25 08:00 AM MST - 10/16/25 11:00 AM MST<br />Description:<br />Whether you prefer diaphragm or peristaltic pumps, learn about the operation, maintenance, and troubleshooting of these industry workhorses. This course also equips you to determine which pumps will work best in your application&mdash;and which to avoid. It also covers calculating doses and setting controls.<br />
Courses three hours and longer include hands-on operation and maintenance of popular chemical feed pumps.<br />
<br />
TU's :0.3<br />
Water Treatment 0.3<br />
Wastewater Treatment&nbsp; 0.3<br />
Industrial Wastewater Treatment 0.3<br />
Water Distribution&nbsp; 0.3<br />
Wastewater Collection 0.15<br />
&nbsp;
PRIORITY:3
TRANSP:TRANSPARENT
BEGIN:VALARM
TRIGGER:-PT5M
ACTION:DISPLAY
DESCRIPTION:Reminder
END:VALARM
END:VEVENT
END:VCALENDAR
