BEGIN:VCALENDAR
VERSION:2.0
CALSCALE:GREGORIAN
METHOD:PUBLISH
PRODID://HMCH//422731
BEGIN:VEVENT
DTSTAMP:20260420T120100
VTIMEZONE:America/Chicago
DTSTART:20251007T203000Z
DTEND:20251007T220000Z
UID:422731
SUMMARY:HMCHA Board Meetings
LOCATION:CVB
DESCRIPTION:HMCHA Board Meetings\n\n10/07/25 03:30 PM CST\n - 10/07/25 05:00 PM CST\Location:\nCVB\n\n,
X-ALT-DESC;FMTTYPE=text/html:HMCHA Board Meetings<br /><br />10/07/25 03:30 PM CST - 10/07/25 05:00 PM CST<br />Location:<br />CVB<br /><br />,  
PRIORITY:3
TRANSP:TRANSPARENT
BEGIN:VALARM
TRIGGER:-PT5M
ACTION:DISPLAY
DESCRIPTION:Reminder
END:VALARM
END:VEVENT
END:VCALENDAR
