BEGIN:VCALENDAR
VERSION:2.0
CALSCALE:GREGORIAN
METHOD:PUBLISH
PRODID://NDCP//402427
BEGIN:VEVENT
DTSTAMP:20260419T192923
VTIMEZONE:America/Chicago
DTSTART:20260410T050000Z
DTEND:20341231T060000Z
UID:402427
SUMMARY:Unlocking Deep Secrets: Case Studies in Financial Analysis
LOCATION:Anytime CPE
DESCRIPTION:Unlocking Deep Secrets: Case Studies in Financial Analysis\n\n04/10/26 12:00 AM CST\n - 12/31/34 12:00 AM CST\Description:\nUnlock the secrets to understanding a company's financial health and management performance through comprehensive financial analysis. This seminar will guide you through essential tools such as vertical analysis, horizontal analysis, and ratio analysis to gain deep insights into business performance.Objectives:After attending this presentation, you will be able to...
 Utilize vertical analysis by converting each financial statement line item into a percentage of a base figure, facilitating effective comparisons across different companies and identifying significant financial trends.
 Calculate horizontal analysis for review of financial data over multiple periods, to identify notable changes and trends that reflect a company's growth and performance trajectory.
 Calculate and interpret key financial ratios, assessing aspects such as profitability, liquidity, and solvency. Gain insights into management performance and business viability, leveraging this analysis to make informed decisions based on real-world financial data.
 Instructor:Eric KnightFields of Study:Finance\Location:\nAnytime CPE\n\n,
X-ALT-DESC;FMTTYPE=text/html:Unlocking Deep Secrets: Case Studies in Financial Analysis<br /><br />04/10/26 12:00 AM CST - 12/31/34 12:00 AM CST<br />Description:<br />Unlock the secrets to understanding a company's financial health and management performance through comprehensive financial analysis. This seminar will guide you through essential tools such as vertical analysis, horizontal analysis, and ratio analysis to gain deep insights into business performance.<br><br><b>Objectives:</b>After attending this presentation, you will be able to...<br />
<br />
<br />
Utilize vertical analysis by converting each financial statement line item into a percentage of a base figure, facilitating effective comparisons across different companies and identifying significant financial trends.<br />
<br />
Calculate horizontal analysis for review of financial data over multiple periods, to identify notable changes and trends that reflect a company's growth and performance trajectory.<br />
<br />
Calculate and interpret key financial ratios, assessing aspects such as profitability, liquidity, and solvency. Gain insights into management performance and business viability, leveraging this analysis to make informed decisions based on real-world financial data.<br />
<br><br><b>Instructor:</b><br>Eric Knight<br><br><b>Fields of Study:</b><br>Finance<br />Location:<br />Anytime CPE<br /><br />,  
PRIORITY:3
TRANSP:TRANSPARENT
BEGIN:VALARM
TRIGGER:-PT5M
ACTION:DISPLAY
DESCRIPTION:Reminder
END:VALARM
END:VEVENT
END:VCALENDAR
