BEGIN:VCALENDAR
VERSION:2.0
CALSCALE:GREGORIAN
METHOD:PUBLISH
PRODID://ERWW//386439
BEGIN:VEVENT
DTSTAMP:20260419T135008
VTIMEZONE:America/Los_Angeles
DTSTART:20251104T163000Z
DTEND:20251107T003000Z
UID:386439
SUMMARY:Water Distribution Manager Exam Review (3 days)- Virtual
LOCATION:
DESCRIPTION:Water Distribution Manager Exam Review (3 days)- Virtual\n\n11/04/25 08:30 AM PST\n - 11/06/25 04:30 PM PST\Description:\nAttend this 3-day course and learn how to prepare for the levels I-2 Water Distribution Manager Exam. This class includes an extensive math and water chemistry review, review of disinfection rules and procedures, review of basic well construction, including well development; along with the review of water utility management, operation and maintenance principles. Several practice tests will be given and reviewed in class.\nTaught by Evergreen Rural Water\n\n1.9 Water Only CEUs \nCosts: $350 ERWoW Members / $425 Non-Members\n\n 
X-ALT-DESC;FMTTYPE=text/html:Water Distribution Manager Exam Review (3 days)- Virtual<br /><br />11/04/25 08:30 AM PST - 11/06/25 04:30 PM PST<br />Description:<br /><span style="font-size:14px">Attend this 3-day course and learn how to prepare for the levels I-2 Water&nbsp;Distribution Manager&nbsp;Exam. This class includes an extensive math and water&nbsp;chemistry&nbsp;review, review of disinfection rules and procedures, review of basic well&nbsp;construction, including well development; along with the review of water utility management, operation and maintenance principles. Several practice tests will be given and reviewed in class.<br />
Taught by Evergreen Rural Water<br />
<br />
1.9 Water Only CEUs&nbsp;<br />
Costs: $350 ERWoW Members / $425 Non-Members</span><br />
<br />
&nbsp;
PRIORITY:3
TRANSP:TRANSPARENT
BEGIN:VALARM
TRIGGER:-PT5M
ACTION:DISPLAY
DESCRIPTION:Reminder
END:VALARM
END:VEVENT
END:VCALENDAR
