BEGIN:VCALENDAR
VERSION:2.0
CALSCALE:GREGORIAN
METHOD:PUBLISH
PRODID://NDCP//364318
BEGIN:VEVENT
DTSTAMP:20260421T193801
VTIMEZONE:America/Chicago
DTSTART:20260410T050000Z
DTEND:20341231T060000Z
UID:364318
SUMMARY:CFO Solutions to IRS Problems
LOCATION:Anytime CPE
DESCRIPTION:CFO Solutions to IRS Problems\n\n04/10/26 12:00 AM CST\n - 12/31/34 12:00 AM CST\Description:\nMany CPAs are becoming full-time or fractional CFOs for small businesses. In that position, they are the resident expert in finances, cash flow planning, and budgeting. But what about dealing with the IRS? The IRS has broad powers to administer the assessment and collection of taxes. From removing penalties to criminal prosecutions, this presentation focuses on how CFOs can prevent problems with the IRS and how to develop winning strategies if the IRS knocks on the door.Objectives:After attending this presentation you will be able to...
 Identify the authority and regulations of the IRS.
 Develop a plan of action to prepare for an audit.
 Recognize questionable tax strategies by owners.
 Develop a plan for unpaid taxes.
 Recognize possible criminal tax violations.
 Instructor:Robert NordlanderFields of Study:Taxes\Location:\nAnytime CPE\n\n,
X-ALT-DESC;FMTTYPE=text/html:CFO Solutions to IRS Problems<br /><br />04/10/26 12:00 AM CST - 12/31/34 12:00 AM CST<br />Description:<br />Many CPAs are becoming full-time or fractional CFOs for small businesses. In that position, they are the resident expert in finances, cash flow planning, and budgeting. But what about dealing with the IRS? The IRS has broad powers to administer the assessment and collection of taxes. From removing penalties to criminal prosecutions, this presentation focuses on how CFOs can prevent problems with the IRS and how to develop winning strategies if the IRS knocks on the door.<br><br><b>Objectives:</b>After attending this presentation you will be able to...<br />
<br />
Identify the authority and regulations of the IRS.<br />
<br />
Develop a plan of action to prepare for an audit.<br />
<br />
Recognize questionable tax strategies by owners.<br />
<br />
Develop a plan for unpaid taxes.<br />
<br />
Recognize possible criminal tax violations.<br />
<br><br><b>Instructor:</b><br>Robert Nordlander<br><br><b>Fields of Study:</b><br>Taxes<br />Location:<br />Anytime CPE<br /><br />,  
PRIORITY:3
TRANSP:TRANSPARENT
BEGIN:VALARM
TRIGGER:-PT5M
ACTION:DISPLAY
DESCRIPTION:Reminder
END:VALARM
END:VEVENT
END:VCALENDAR
