BEGIN:VCALENDAR
VERSION:2.0
CALSCALE:GREGORIAN
METHOD:PUBLISH
PRODID://NDCP//364317
BEGIN:VEVENT
DTSTAMP:20260424T214609
VTIMEZONE:America/Chicago
DTSTART:20260410T050000Z
DTEND:20341231T060000Z
UID:364317
SUMMARY:Erase the Mark: Best Practices in Penalty Abatement
LOCATION:Anytime CPE
DESCRIPTION:Erase the Mark: Best Practices in Penalty Abatement\n\n04/10/26 12:00 AM CST\n - 12/31/34 12:00 AM CST\Description:\nIf there is a potential error, the IRS will assess a tax and add a hefty penalty, without even knowing the facts. As a tax professional, you will be exposed to the IRS and their methods of penalizing taxpayers for the smallest of violations. This presentation will focus on the rules and regulations that create the penalty, and the reasons that exist that the IRS will consider to remove those penalties.Objectives:After attending this presentation, you will be able to...
 Identify the authority of the IRS to assess penalties.
 Recognize the common types of penalties that can be abated.
 Develop a plan to request penalty abatement.
 Review real examples of successful penalty abatement.
 Instructor:Robert NordlanderFields of Study:Taxes\Location:\nAnytime CPE\n\n,
X-ALT-DESC;FMTTYPE=text/html:Erase the Mark: Best Practices in Penalty Abatement<br /><br />04/10/26 12:00 AM CST - 12/31/34 12:00 AM CST<br />Description:<br />If there is a potential error, the IRS will assess a tax and add a hefty penalty, without even knowing the facts. As a tax professional, you will be exposed to the IRS and their methods of penalizing taxpayers for the smallest of violations. This presentation will focus on the rules and regulations that create the penalty, and the reasons that exist that the IRS will consider to remove those penalties.<br><br><b>Objectives:</b>After attending this presentation, you will be able to...<br />
<br />
<br />
Identify the authority of the IRS to assess penalties.<br />
<br />
Recognize the common types of penalties that can be abated.<br />
<br />
Develop a plan to request penalty abatement.<br />
<br />
Review real examples of successful penalty abatement.<br />
<br><br><b>Instructor:</b><br>Robert Nordlander<br><br><b>Fields of Study:</b><br>Taxes<br />Location:<br />Anytime CPE<br /><br />,  
PRIORITY:3
TRANSP:TRANSPARENT
BEGIN:VALARM
TRIGGER:-PT5M
ACTION:DISPLAY
DESCRIPTION:Reminder
END:VALARM
END:VEVENT
END:VCALENDAR
