BEGIN:VCALENDAR
VERSION:2.0
CALSCALE:GREGORIAN
METHOD:PUBLISH
PRODID://NDCP//364315
BEGIN:VEVENT
DTSTAMP:20260424T191920
VTIMEZONE:America/Chicago
DTSTART:20260410T050000Z
DTEND:20341231T060000Z
UID:364315
SUMMARY:ChatGPT for Accountants: 50+ Use Cases
LOCATION:Anytime CPE
DESCRIPTION:ChatGPT for Accountants: 50+ Use Cases\n\n04/10/26 12:00 AM CST\n - 12/31/34 12:00 AM CST\Description:\nThis course will explore the use of ChatGPT and artificial intelligence chatbot technologies in the accounting profession. Participants will learn how to utilize ChatGPT to automate tasks, improve efficiency and accuracy, and provide real-time support to clients.Objectives:After attending this presentation, you will be able to...
 Identify the basics of ChatGPT and artificial intelligence chatbot technologies
 Use ChatGPT to automate tasks and improve efficiency in the accounting profession
 Utilize ChatGPT to improve accuracy and reduce the risk of mistakes in financial records
 Supply real-time support to clients using ChatGPT
 Generate financial reports using ChatGPT
 Use ChatGPT to automate tax return preparation and financial planning
 Deliver guidance on financial decision making using ChatGPT
 Instructor:Garret Wasny, MA, CMC, CITP/FIBPFields of Study:Information Technology\Location:\nAnytime CPE\n\n,
X-ALT-DESC;FMTTYPE=text/html:ChatGPT for Accountants: 50+ Use Cases<br /><br />04/10/26 12:00 AM CST - 12/31/34 12:00 AM CST<br />Description:<br />This course will explore the use of ChatGPT and artificial intelligence chatbot technologies in the accounting profession. Participants will learn how to utilize ChatGPT to automate tasks, improve efficiency and accuracy, and provide real-time support to clients.<br><br><b>Objectives:</b>After attending this presentation, you will be able to...<br />
<br />
<br />
Identify the basics of ChatGPT and artificial intelligence chatbot technologies<br />
<br />
Use ChatGPT to automate tasks and improve efficiency in the accounting profession<br />
<br />
Utilize ChatGPT to improve accuracy and reduce the risk of mistakes in financial records<br />
<br />
Supply real-time support to clients using ChatGPT<br />
<br />
Generate financial reports using ChatGPT<br />
<br />
Use ChatGPT to automate tax return preparation and financial planning<br />
<br />
Deliver guidance on financial decision making using ChatGPT<br />
<br><br><b>Instructor:</b><br>Garret Wasny, MA, CMC, CITP/FIBP<br><br><b>Fields of Study:</b><br>Information Technology<br />Location:<br />Anytime CPE<br /><br />,  
PRIORITY:3
TRANSP:TRANSPARENT
BEGIN:VALARM
TRIGGER:-PT5M
ACTION:DISPLAY
DESCRIPTION:Reminder
END:VALARM
END:VEVENT
END:VCALENDAR
