BEGIN:VCALENDAR
VERSION:2.0
CALSCALE:GREGORIAN
METHOD:PUBLISH
PRODID://BCPC//465004
BEGIN:VEVENT
DTSTAMP:20260420T082706
VTIMEZONE:America/New_York
DTSTART:20261117T133000Z
DTEND:20261117T153000Z
UID:465004
SUMMARY:BCPC Monthly Meeting
LOCATION:, MD
DESCRIPTION:BCPC Monthly Meeting\n\n11/17/26 08:30 AM EST\n - 11/17/26 10:30 AM EST
X-ALT-DESC;FMTTYPE=text/html:BCPC Monthly Meeting<br /><br />11/17/26 08:30 AM EST - 11/17/26 10:30 AM EST
PRIORITY:3
TRANSP:TRANSPARENT
BEGIN:VALARM
TRIGGER:-PT5M
ACTION:DISPLAY
DESCRIPTION:Reminder
END:VALARM
END:VEVENT
END:VCALENDAR
