BEGIN:VCALENDAR
VERSION:2.0
CALSCALE:GREGORIAN
METHOD:PUBLISH
PRODID://BCPC//465002
BEGIN:VEVENT
DTSTAMP:20260420T003749
VTIMEZONE:America/New_York
DTSTART:20260922T151500Z
DTEND:20260922T173000Z
UID:465002
SUMMARY:BCPC Fall Luncheon
LOCATION:, MD
DESCRIPTION:BCPC Fall Luncheon\n\n09/22/26 11:15 AM EST\n - 09/22/26 01:30 PM EST
X-ALT-DESC;FMTTYPE=text/html:BCPC Fall Luncheon<br /><br />09/22/26 11:15 AM EST - 09/22/26 01:30 PM EST
PRIORITY:3
TRANSP:TRANSPARENT
BEGIN:VALARM
TRIGGER:-PT5M
ACTION:DISPLAY
DESCRIPTION:Reminder
END:VALARM
END:VEVENT
END:VCALENDAR
