BEGIN:VCALENDAR
VERSION:2.0
CALSCALE:GREGORIAN
METHOD:PUBLISH
PRODID://OMEA//424284
BEGIN:VEVENT
DTSTAMP:20260425T145906
VTIMEZONE:America/New_York
DTSTART:20260518T220000Z
DTEND:20260519T001500Z
UID:424284
SUMMARY:D5 - Spring Meeting
LOCATION:Sunrise Inn, 510 E Market St, Warren, OH, 44481
DESCRIPTION:D5 - Spring Meeting\n\n05/18/26 06:00 PM EST\n - 05/18/26 08:15 PM EST\Description:\nDistrict 5 Spring Meeting\Details:\n6:00pm - dinner\nâ€‹7:00pm - approx. meeting start\Location:\nSunrise Inn\n510 E Market St\nWarren, OH 44481
X-ALT-DESC;FMTTYPE=text/html:D5 - Spring Meeting<br /><br />05/18/26 06:00 PM EST - 05/18/26 08:15 PM EST<br />Description:<br />District 5 Spring Meeting<br />Details:<br />6:00pm - dinner<br />
â€‹7:00pm - approx. meeting start<br />Location:<br />Sunrise Inn<br />510 E Market St<br />Warren, OH 44481
PRIORITY:3
TRANSP:TRANSPARENT
BEGIN:VALARM
TRIGGER:-PT5M
ACTION:DISPLAY
DESCRIPTION:Reminder
END:VALARM
END:VEVENT
END:VCALENDAR
